BEGIN:VCALENDAR
VERSION:2.0
PRODID:-//Plone.org//NONSGML plone.app.event//EN
X-WR-TIMEZONE:Europe/Berlin
BEGIN:VEVENT
SUMMARY:Winterkur
DTSTART;TZID=CET;VALUE=DATE-TIME:20120211T170000
DTEND;TZID=CET;VALUE=DATE-TIME:20120211T235959
DTSTAMP;VALUE=DATE-TIME:20260420T144413Z
UID:bfc1628c8a77464693c047bfe26b7535@website_zeoclients
CONTACT:Slowfood Deutschland e.V.\, nuernberg@slowfood.de
CREATED;VALUE=DATE-TIME:20060326T093605Z
LAST-MODIFIED;VALUE=DATE-TIME:20220620T201628Z
LOCATION:Altes Kurhaus\, Streitberger Berg 13\, 91346\, Wiesenttal
URL:https://www.slowfood.de/netzwerk/vor-ort/nuernberg/termine/winterkur
END:VEVENT
BEGIN:VTIMEZONE
TZID:CET
X-LIC-LOCATION:CET
BEGIN:STANDARD
DTSTART;VALUE=DATE-TIME:20111030T020000
TZNAME:CET
TZOFFSETFROM:+0200
TZOFFSETTO:+0100
END:STANDARD
END:VTIMEZONE
END:VCALENDAR
