BEGIN:VCALENDAR
VERSION:2.0
PRODID:-//Plone.org//NONSGML plone.app.event//EN
X-WR-TIMEZONE:Europe/Berlin
BEGIN:VEVENT
SUMMARY:Einfach – Gut – Kochen
DTSTART;TZID=CET;VALUE=DATE-TIME:20070105T180000
DTEND;TZID=CET;VALUE=DATE-TIME:20070105T235959
DTSTAMP;VALUE=DATE-TIME:20260421T051830Z
UID:a6557cd0414f402e85a4487bbeb14fe2@website_zeoclients
CONTACT:Slowfood Deutschland e.V.\, info@slowfood.de
CREATED;VALUE=DATE-TIME:20061121T092349Z
LAST-MODIFIED;VALUE=DATE-TIME:20220620T202151Z
LOCATION:Klaus Ruwisch\, Wehdestr. 79 B\, 26123\, Oldenburg
URL:https://www.slowfood.de/netzwerk/vor-ort/oldenburg/termine/einfach__gu
 t__kochen
END:VEVENT
BEGIN:VTIMEZONE
TZID:CET
X-LIC-LOCATION:CET
BEGIN:STANDARD
DTSTART;VALUE=DATE-TIME:20061029T020000
TZNAME:CET
TZOFFSETFROM:+0200
TZOFFSETTO:+0100
END:STANDARD
END:VTIMEZONE
END:VCALENDAR
