BEGIN:VCALENDAR
VERSION:2.0
PRODID:-//Plone.org//NONSGML plone.app.event//EN
X-WR-TIMEZONE:Europe/Berlin
BEGIN:VEVENT
SUMMARY:fish international
DTSTART;TZID=CET;VALUE=DATE-TIME:20060212T140000
DTEND;TZID=CET;VALUE=DATE-TIME:20060212T235959
DTSTAMP;VALUE=DATE-TIME:20260422T025658Z
UID:006c9bb650f34144a77b8c6eec49b7f4@website_zeoclients
CONTACT:Slow Food Oldenburg\, oldenburg@slowfood.de
CREATED;VALUE=DATE-TIME:20051208T075359Z
LAST-MODIFIED;VALUE=DATE-TIME:20220620T202138Z
LOCATION:Treffpunkt: HBF\, Ausgang Nord\, Bremen
URL:https://www.slowfood.de/netzwerk/vor-ort/oldenburg/termine/fish_intern
 ational
END:VEVENT
BEGIN:VTIMEZONE
TZID:CET
X-LIC-LOCATION:CET
BEGIN:STANDARD
DTSTART;VALUE=DATE-TIME:20051030T020000
TZNAME:CET
TZOFFSETFROM:+0200
TZOFFSETTO:+0100
END:STANDARD
END:VTIMEZONE
END:VCALENDAR
