BEGIN:VCALENDAR
VERSION:2.0
PRODID:-//Plone.org//NONSGML plone.app.event//EN
X-WR-TIMEZONE:Europe/Berlin
BEGIN:VEVENT
SUMMARY:Muschelfischerei
DTSTART;TZID=Europe/Berlin;VALUE=DATE-TIME:20191017T190000
DTSTAMP;VALUE=DATE-TIME:20260422T054535Z
UID:e8f09934369347b0ab2233ae57e1260d@website_zeoclients
CONTACT:Wolfgang Becker\, Tel. 0441-68325099\, beckewo@gmx.de
CREATED;VALUE=DATE-TIME:20190823T122545Z
LAST-MODIFIED;VALUE=DATE-TIME:20220620T202241Z
LOCATION:Kulturetage\, Bahnhofstr. 11\, Eingang im Hof zwischen Patio und 
 Oeins\, 26122\, Oldenburg
URL:https://www.slowfood.de/netzwerk/vor-ort/oldenburg/termine/muschelfisc
 herei
END:VEVENT
BEGIN:VTIMEZONE
TZID:Europe/Berlin
X-LIC-LOCATION:Europe/Berlin
BEGIN:DAYLIGHT
DTSTART;VALUE=DATE-TIME:20190331T030000
TZNAME:CEST
TZOFFSETFROM:+0100
TZOFFSETTO:+0200
END:DAYLIGHT
END:VTIMEZONE
END:VCALENDAR
