BEGIN:VCALENDAR
VERSION:2.0
PRODID:-//Plone.org//NONSGML plone.app.event//EN
X-WR-TIMEZONE:Europe/Berlin
BEGIN:VEVENT
SUMMARY:Slow – Wine & Lunch
DTSTART;TZID=CET;VALUE=DATE-TIME:20140518T113000
DTEND;TZID=CET;VALUE=DATE-TIME:20140518T143000
DTSTAMP;VALUE=DATE-TIME:20260422T172432Z
UID:ba7f1eaaed564c1b931bd10aefb53272@website_zeoclients
CREATED;VALUE=DATE-TIME:20140317T090603Z
LAST-MODIFIED;VALUE=DATE-TIME:20220620T202223Z
LOCATION:Gasthof Backers\, Kirchstraße 25\, 49767\, Twist
URL:https://www.slowfood.de/netzwerk/vor-ort/oldenburg/termine/slow_wine_l
 unch
END:VEVENT
BEGIN:VTIMEZONE
TZID:CET
X-LIC-LOCATION:CET
BEGIN:DAYLIGHT
DTSTART;VALUE=DATE-TIME:20140330T030000
TZNAME:CEST
TZOFFSETFROM:+0100
TZOFFSETTO:+0200
END:DAYLIGHT
END:VTIMEZONE
END:VCALENDAR
