BEGIN:VCALENDAR
VERSION:2.0
PRODID:-//Plone.org//NONSGML plone.app.event//EN
X-WR-TIMEZONE:Europe/Berlin
BEGIN:VEVENT
SUMMARY:Swin Golf 
DTSTART;TZID=CET;VALUE=DATE-TIME:20140727T140000
DTEND;TZID=CET;VALUE=DATE-TIME:20140727T235959
DTSTAMP;VALUE=DATE-TIME:20260421T221413Z
UID:e926f3a94e4f48678820217655f12a76@website_zeoclients
CREATED;VALUE=DATE-TIME:20140326T083716Z
LAST-MODIFIED;VALUE=DATE-TIME:20220620T202224Z
LOCATION:Janßen-Hof\, Patinenweg 6\, 26180\, Rastede
URL:https://www.slowfood.de/netzwerk/vor-ort/oldenburg/termine/swin_golf
END:VEVENT
BEGIN:VTIMEZONE
TZID:CET
X-LIC-LOCATION:CET
BEGIN:DAYLIGHT
DTSTART;VALUE=DATE-TIME:20140330T030000
TZNAME:CEST
TZOFFSETFROM:+0100
TZOFFSETTO:+0200
END:DAYLIGHT
END:VTIMEZONE
END:VCALENDAR
