BEGIN:VCALENDAR
VERSION:2.0
PRODID:-//Plone.org//NONSGML plone.app.event//EN
X-WR-TIMEZONE:Europe/Berlin
BEGIN:VEVENT
SUMMARY:Winterkaffee
DTSTART;TZID=CET;VALUE=DATE-TIME:20121202T150000
DTEND;TZID=CET;VALUE=DATE-TIME:20121202T235959
DTSTAMP;VALUE=DATE-TIME:20260419T183002Z
UID:0d7a9250c4224a6aabaab49908037922@website_zeoclients
CREATED;VALUE=DATE-TIME:20120925T083636Z
LAST-MODIFIED;VALUE=DATE-TIME:20220620T202217Z
LOCATION:Huesmann\, Drielaker Heide 58\, 26135\, Oldenburg
URL:https://www.slowfood.de/netzwerk/vor-ort/oldenburg/termine/winterkaffe
 e
END:VEVENT
BEGIN:VTIMEZONE
TZID:CET
X-LIC-LOCATION:CET
BEGIN:STANDARD
DTSTART;VALUE=DATE-TIME:20121028T020000
TZNAME:CET
TZOFFSETFROM:+0200
TZOFFSETTO:+0100
END:STANDARD
END:VTIMEZONE
END:VCALENDAR
