BEGIN:VCALENDAR
VERSION:2.0
PRODID:-//Plone.org//NONSGML plone.app.event//EN
X-WR-TIMEZONE:Europe/Berlin
BEGIN:VEVENT
SUMMARY:Springbrötchen
DTSTART;TZID=CET;VALUE=DATE-TIME:20130223T120000
DTEND;TZID=CET;VALUE=DATE-TIME:20130223T235959
DTSTAMP;VALUE=DATE-TIME:20260422T021222Z
UID:db381ec79c7a4dc7aa6bb80a8297ffbc@website_zeoclients
CONTACT:Slowfood Deutschland e.V.\, osnabrueck@slowfood.de
CREATED;VALUE=DATE-TIME:20130105T213240Z
LAST-MODIFIED;VALUE=DATE-TIME:20220620T202444Z
LOCATION:Privatrösterei Carlos Tomas\, Hegerstr. 29/30\, 49074 \, Osnabr
 ück
URL:https://www.slowfood.de/netzwerk/vor-ort/osnabrueck/termine/springbroe
 tchen
END:VEVENT
BEGIN:VTIMEZONE
TZID:CET
X-LIC-LOCATION:CET
BEGIN:STANDARD
DTSTART;VALUE=DATE-TIME:20121028T020000
TZNAME:CET
TZOFFSETFROM:+0200
TZOFFSETTO:+0100
END:STANDARD
END:VTIMEZONE
END:VCALENDAR
