BEGIN:VCALENDAR
VERSION:2.0
PRODID:-//Plone.org//NONSGML plone.app.event//EN
X-WR-TIMEZONE:Europe/Berlin
BEGIN:VEVENT
SUMMARY:Abgesagt - Craft-Beer-Tasting mit Martin Dambach
DTSTART;TZID=Europe/Berlin;VALUE=DATE-TIME:20200327T200000
DTSTAMP;VALUE=DATE-TIME:20260420T021015Z
UID:7ebdc088cc254a7da62b41b6bee3e0a7@website_zeoclients
CONTACT:Ingo Plessing\, stuttgart@slowfood.de
CREATED;VALUE=DATE-TIME:20200125T131754Z
LAST-MODIFIED;VALUE=DATE-TIME:20220620T203711Z
LOCATION:Bürgerzentrum West\, Bebelstr. 22\, 70193\, Stuttgart
URL:https://www.slowfood.de/netzwerk/vor-ort/stuttgart/termine/craft-beer-
 tasting
END:VEVENT
BEGIN:VTIMEZONE
TZID:Europe/Berlin
X-LIC-LOCATION:Europe/Berlin
BEGIN:STANDARD
DTSTART;VALUE=DATE-TIME:20191027T020000
TZNAME:CET
TZOFFSETFROM:+0200
TZOFFSETTO:+0100
END:STANDARD
END:VTIMEZONE
END:VCALENDAR
