BEGIN:VCALENDAR
VERSION:2.0
PRODID:-//Plone.org//NONSGML plone.app.event//EN
X-WR-TIMEZONE:Europe/Berlin
BEGIN:VEVENT
SUMMARY:Limpurger Rind - Menüabend
DTSTART;TZID=Europe/Berlin;VALUE=DATE-TIME:20250704T190000
DTEND;TZID=Europe/Berlin;VALUE=DATE-TIME:20250705T220000
DTSTAMP;VALUE=DATE-TIME:20260419T175201Z
UID:7dabc5dfa3a24d1aa668627042bc2d2d@website_zeoclients
CONTACT:Ingo Plessing\, stuttgart@slowfood.de
CREATED;VALUE=DATE-TIME:20200125T132832Z
DESCRIPTION:Limpurger Rind vom Hof Herzogenau und Weine vom Weingut Dolde
LAST-MODIFIED;VALUE=DATE-TIME:20250628T212350Z
LOCATION:Zum Bäckerhaus\, Dorfstr. 13\, 73061\, Ebersbach-Rosswälden
URL:https://www.slowfood.de/netzwerk/vor-ort/stuttgart/termine/das5teviert
 el
END:VEVENT
BEGIN:VTIMEZONE
TZID:Europe/Berlin
X-LIC-LOCATION:Europe/Berlin
BEGIN:DAYLIGHT
DTSTART;VALUE=DATE-TIME:20250330T030000
TZNAME:CEST
TZOFFSETFROM:+0100
TZOFFSETTO:+0200
END:DAYLIGHT
END:VTIMEZONE
END:VCALENDAR
