BEGIN:VCALENDAR
VERSION:2.0
PRODID:-//Plone.org//NONSGML plone.app.event//EN
X-WR-TIMEZONE:Europe/Berlin
BEGIN:VEVENT
SUMMARY:Mitgliederversammlung
DTSTART;TZID=Europe/Berlin;VALUE=DATE-TIME:20250717T190000
DTSTAMP;VALUE=DATE-TIME:20260420T094018Z
UID:78df2d71e61a4bb3bbf4ff23ef9bf888@website_zeoclients
CONTACT:Ingo Plessing\, stuttgart@slowfood.de
CREATED;VALUE=DATE-TIME:20190615T190405Z
LAST-MODIFIED;VALUE=DATE-TIME:20260126T215857Z
LOCATION:Weingut Heid\, Cannstatter Str. 13/2\, 70734\, Fellbach
URL:https://www.slowfood.de/netzwerk/vor-ort/stuttgart/termine/mitgliederv
 ersammlung
END:VEVENT
BEGIN:VTIMEZONE
TZID:Europe/Berlin
X-LIC-LOCATION:Europe/Berlin
BEGIN:DAYLIGHT
DTSTART;VALUE=DATE-TIME:20250330T030000
TZNAME:CEST
TZOFFSETFROM:+0100
TZOFFSETTO:+0200
END:DAYLIGHT
END:VTIMEZONE
END:VCALENDAR
