BEGIN:VCALENDAR
VERSION:2.0
PRODID:-//Plone.org//NONSGML plone.app.event//EN
X-WR-TIMEZONE:Europe/Berlin
BEGIN:VEVENT
SUMMARY:Menü rund um die Ziege
DTSTART;TZID=Europe/Berlin;VALUE=DATE-TIME:20240713T190000
DTSTAMP;VALUE=DATE-TIME:20260420T150850Z
UID:fc9430fc635c41c0b464399f5c70d970@website_zeoclients
CONTACT:Ingo Plessing\, stuttgart@slowfood.de
CREATED;VALUE=DATE-TIME:20200125T132832Z
DESCRIPTION:Ein Menüabend rund um die Thüringer Waldziege - Passagier de
 r Slow Food Arche des Geschmacks
LAST-MODIFIED;VALUE=DATE-TIME:20240619T194517Z
LOCATION:Zum Bäckerhaus\, Dorfstr. 13\, 73061\, Ebersbach-Rosswälden
URL:https://www.slowfood.de/netzwerk/vor-ort/stuttgart/termine/ziegenmenue
 2
END:VEVENT
BEGIN:VTIMEZONE
TZID:Europe/Berlin
X-LIC-LOCATION:Europe/Berlin
BEGIN:DAYLIGHT
DTSTART;VALUE=DATE-TIME:20240331T030000
TZNAME:CEST
TZOFFSETFROM:+0100
TZOFFSETTO:+0200
END:DAYLIGHT
END:VTIMEZONE
END:VCALENDAR
