BEGIN:VCALENDAR
VERSION:2.0
PRODID:-//Plone.org//NONSGML plone.app.event//EN
X-WR-TIMEZONE:Europe/Berlin
BEGIN:VEVENT
SUMMARY:Backstein-Workshop
DTSTART;TZID=CET;VALUE=DATE-TIME:20150415T190000
DTEND;TZID=CET;VALUE=DATE-TIME:20150415T235959
DTSTAMP;VALUE=DATE-TIME:20260421T185611Z
UID:289e53b535d34d32b49d1548912c09ed@website_zeoclients
CREATED;VALUE=DATE-TIME:20050706T175137Z
DESCRIPTION:Wer gutes Essen schätzt\, gerne selbst kocht und sich ausgewo
 gen ernähren möchte\, der ist in Deutschland eigentlich gut aufgehoben: 
 Eine Vielzahl kulinarischer Traditionen spiegelt sich in der deutschen Ess
 kultur wider. Hochwertige Lebensmittel sind überall und jederzeit verfüg
 bar.
LAST-MODIFIED;VALUE=DATE-TIME:20220620T204530Z
LOCATION:Holz + Form Schreinerei GmbH\, Provenceweg 22\, 72072\, <strong>T
 übingen</strong>
URL:https://www.slowfood.de/netzwerk/vor-ort/tuebingen/events/backstein
END:VEVENT
BEGIN:VTIMEZONE
TZID:CET
X-LIC-LOCATION:CET
BEGIN:DAYLIGHT
DTSTART;VALUE=DATE-TIME:20150329T030000
TZNAME:CEST
TZOFFSETFROM:+0100
TZOFFSETTO:+0200
END:DAYLIGHT
END:VTIMEZONE
END:VCALENDAR
