BEGIN:VCALENDAR
VERSION:2.0
PRODID:-//Plone.org//NONSGML plone.app.event//EN
X-WR-TIMEZONE:Europe/Berlin
BEGIN:VEVENT
SUMMARY:Event: Gänseessen
DTSTART;TZID=CET;VALUE=DATE-TIME:20131110T170000
DTEND;TZID=CET;VALUE=DATE-TIME:20131110T235959
DTSTAMP;VALUE=DATE-TIME:20260420T020626Z
UID:e500c3c7203845058666ebd1f4781e77@website_zeoclients
CONTACT:Slowfood Deutschland e.V.\, tuebingen@slowfood.de
CREATED;VALUE=DATE-TIME:20110801T105343Z
LAST-MODIFIED;VALUE=DATE-TIME:20220620T204527Z
LOCATION:Weinbau Hermann & Christian Gugel GbR\, Kreuzberg 46\, 72070\, <s
 trong>Tübingen</strong>
URL:https://www.slowfood.de/netzwerk/vor-ort/tuebingen/events/gaenseessen_
 1
END:VEVENT
BEGIN:VTIMEZONE
TZID:CET
X-LIC-LOCATION:CET
BEGIN:STANDARD
DTSTART;VALUE=DATE-TIME:20131027T020000
TZNAME:CET
TZOFFSETFROM:+0200
TZOFFSETTO:+0100
END:STANDARD
END:VTIMEZONE
END:VCALENDAR
