BEGIN:VCALENDAR
VERSION:2.0
PRODID:-//Plone.org//NONSGML plone.app.event//EN
X-WR-TIMEZONE:Europe/Berlin
BEGIN:VEVENT
SUMMARY:Ostalb-Lamm
DTSTART;TZID=CET;VALUE=DATE-TIME:20070520T103000
DTEND;TZID=CET;VALUE=DATE-TIME:20070520T235959
DTSTAMP;VALUE=DATE-TIME:20260420T020626Z
UID:aab2f9841efe4ab28a0194bbd24777a5@website_zeoclients
CONTACT:Slowfood München\, boehler.rudolf@muc.guj.de
CREATED;VALUE=DATE-TIME:20070113T134515Z
LAST-MODIFIED;VALUE=DATE-TIME:20220620T204810Z
LOCATION:Schafhof Smietana\, Busentalhalde\, 89555\, Steinheim a.A.
URL:https://www.slowfood.de/netzwerk/vor-ort/ulm/archiv/ostalb_lamm
END:VEVENT
BEGIN:VTIMEZONE
TZID:CET
X-LIC-LOCATION:CET
BEGIN:DAYLIGHT
DTSTART;VALUE=DATE-TIME:20070325T030000
TZNAME:CEST
TZOFFSETFROM:+0100
TZOFFSETTO:+0200
END:DAYLIGHT
END:VTIMEZONE
END:VCALENDAR
