BEGIN:VCALENDAR
VERSION:2.0
PRODID:-//Plone.org//NONSGML plone.app.event//EN
X-WR-TIMEZONE:Europe/Berlin
BEGIN:VEVENT
SUMMARY:20170420-messe
DTSTART;TZID=CET;VALUE=DATE-TIME:20170420T000000
DTEND;TZID=CET;VALUE=DATE-TIME:20170423T235959
DTSTAMP;VALUE=DATE-TIME:20260422T144933Z
UID:ea28623bdcb145358c51b861a38fffdd@website_zeoclients
CREATED;VALUE=DATE-TIME:20170203T084035Z
LAST-MODIFIED;VALUE=DATE-TIME:20220620T204758Z
LOCATION:Messe Stuttgart
URL:https://www.slowfood.de/netzwerk/vor-ort/ulm/termine/20170420_messe
END:VEVENT
BEGIN:VTIMEZONE
TZID:CET
X-LIC-LOCATION:CET
BEGIN:DAYLIGHT
DTSTART;VALUE=DATE-TIME:20170326T030000
TZNAME:CEST
TZOFFSETFROM:+0100
TZOFFSETTO:+0200
END:DAYLIGHT
END:VTIMEZONE
END:VCALENDAR
