BEGIN:VCALENDAR
VERSION:2.0
PRODID:-//Plone.org//NONSGML plone.app.event//EN
X-WR-TIMEZONE:Europe/Berlin
BEGIN:VEVENT
SUMMARY:20151010_Stammtisch
DTSTART;TZID=CET;VALUE=DATE-TIME:20151031T170000
DTEND;TZID=CET;VALUE=DATE-TIME:20151031T235959
DTSTAMP;VALUE=DATE-TIME:20260420T212706Z
UID:be207eac515b4961ad239acc8cab60ab@website_zeoclients
CREATED;VALUE=DATE-TIME:20150429T112828Z
LAST-MODIFIED;VALUE=DATE-TIME:20220620T204757Z
LOCATION:Café Liquid\, Münsterplatz\, 89073\, Ulm
URL:https://www.slowfood.de/netzwerk/vor-ort/ulm/termine/stammtisch
END:VEVENT
BEGIN:VTIMEZONE
TZID:CET
X-LIC-LOCATION:CET
BEGIN:STANDARD
DTSTART;VALUE=DATE-TIME:20151025T020000
TZNAME:CET
TZOFFSETFROM:+0200
TZOFFSETTO:+0100
END:STANDARD
END:VTIMEZONE
END:VCALENDAR
