BEGIN:VCALENDAR
VERSION:2.0
PRODID:-//Plone.org//NONSGML plone.app.event//EN
X-WR-TIMEZONE:Europe/Berlin
BEGIN:VEVENT
SUMMARY:schnippeln2018
DTSTART;TZID=CET;VALUE=DATE-TIME:20180901T113000
DTEND;TZID=CET;VALUE=DATE-TIME:20180901T123000
DTSTAMP;VALUE=DATE-TIME:20260422T064708Z
UID:27000b1097604418bde89098cc1cba75@website_zeoclients
CONTACT:Slowfood Deutschland e.V.\, weimar@slowfood.de
CREATED;VALUE=DATE-TIME:20180820T113715Z
LAST-MODIFIED;VALUE=DATE-TIME:20220620T204902Z
LOCATION:"Besser Leben" Messe Erfurt \, Gothaer Straße 34\, 99094\, Erfur
 t
URL:https://www.slowfood.de/netzwerk/vor-ort/weimar_thueringen/termine/sch
 nippeln2018
END:VEVENT
BEGIN:VTIMEZONE
TZID:CET
X-LIC-LOCATION:CET
BEGIN:DAYLIGHT
DTSTART;VALUE=DATE-TIME:20180325T030000
TZNAME:CEST
TZOFFSETFROM:+0100
TZOFFSETTO:+0200
END:DAYLIGHT
END:VTIMEZONE
END:VCALENDAR
